BEGIN:VCALENDAR
VERSION:2.0
PRODID:calendify.com
BEGIN:VEVENT
UID:calendify-session-zX1Mk0L3gW5
DTSTART:20210207T154500Z
SEQUENCE:0
TRANSP:OPAQUE
DTEND:20210207T161000Z
URL:https://calendify.com/session/zX1Mk0L3gW5
LOCATION:D.declarative.minimalistic
SUMMARY:Nyxt browser
CLASS:PUBLIC
DESCRIPTION:https://calendify.com/session/zX1Mk0L3gW5
DTSTAMP:20260423T135043Z
CREATED:20210111T170319Z
LAST-MODIFIED:20210208T224804Z
END:VEVENT
END:VCALENDAR