BEGIN:VCALENDAR
VERSION:2.0
PRODID:calendify.com
BEGIN:VEVENT
UID:calendify-session-zX1Mk0WPgW5
DTSTART:20210206T142000Z
SEQUENCE:0
TRANSP:OPAQUE
DTEND:20210206T150000Z
URL:https://calendify.com/session/zX1Mk0WPgW5
LOCATION:D.openjdk
SUMMARY:Contributors Guide to the Jakarta EE 10 Galaxy
CLASS:PUBLIC
DESCRIPTION:https://calendify.com/session/zX1Mk0WPgW5
DTSTAMP:20260419T224302Z
CREATED:20210111T170318Z
LAST-MODIFIED:20210208T224802Z
END:VEVENT
END:VCALENDAR