BEGIN:VCALENDAR
VERSION:2.0
PRODID:calendify.com
BEGIN:VEVENT
UID:calendify-session-zX1Mk0XngW5
DTSTART:20210206T120000Z
SEQUENCE:0
TRANSP:OPAQUE
DTEND:20210206T123000Z
URL:https://calendify.com/session/zX1Mk0XngW5
LOCATION:D.mozilla
SUMMARY:Thunderbird in 2021
CLASS:PUBLIC
DESCRIPTION:https://calendify.com/session/zX1Mk0XngW5
DTSTAMP:20260424T014431Z
CREATED:20210125T190820Z
LAST-MODIFIED:20210208T224802Z
END:VEVENT
END:VCALENDAR