BEGIN:VCALENDAR
VERSION:2.0
PRODID:calendify.com
BEGIN:VEVENT
UID:calendify-session-zX1Mk0azgW5
DTSTART:20210206T083000Z
SEQUENCE:0
TRANSP:OPAQUE
DTEND:20210206T090000Z
URL:https://calendify.com/session/zX1Mk0azgW5
LOCATION:S.xcpng
SUMMARY:Welcome to the stand for XCP-ng
CLASS:PUBLIC
DESCRIPTION:https://calendify.com/session/zX1Mk0azgW5
DTSTAMP:20260424T040154Z
CREATED:20210125T190821Z
LAST-MODIFIED:20210208T224803Z
END:VEVENT
END:VCALENDAR