BEGIN:VCALENDAR
VERSION:2.0
PRODID:calendify.com
BEGIN:VEVENT
UID:calendify-session-zX1Mk0dzgW5
DTSTART:20210206T153500Z
SEQUENCE:0
TRANSP:OPAQUE
DTEND:20210206T160000Z
URL:https://calendify.com/session/zX1Mk0dzgW5
LOCATION:D.mariadb
SUMMARY:The MariaDB Jupyter Kernel
CLASS:PUBLIC
DESCRIPTION:https://calendify.com/session/zX1Mk0dzgW5
DTSTAMP:20260423T151543Z
CREATED:20210201T190823Z
LAST-MODIFIED:20210208T224802Z
END:VEVENT
END:VCALENDAR