BEGIN:VCALENDAR
VERSION:2.0
PRODID:calendify.com
BEGIN:VEVENT
UID:calendify-session-zX1Mk2EWOW5
DTSTART:20260131T131000Z
SEQUENCE:0
TRANSP:OPAQUE
DTEND:20260131T133000Z
URL:https://calendify.com/session/zX1Mk2EWOW5
LOCATION:UA2.118 (Henriot)
SUMMARY:WordPress at Scale
CLASS:PUBLIC
DESCRIPTION:https://calendify.com/session/zX1Mk2EWOW5
DTSTAMP:20260424T083519Z
CREATED:20260131T063251Z
LAST-MODIFIED:20260201T163222Z
END:VEVENT
END:VCALENDAR