BEGIN:VCALENDAR
VERSION:2.0
PRODID:calendify.com
BEGIN:VEVENT
UID:calendify-session-zX1Mk2x8OW5
DTSTART:20260131T100000Z
SEQUENCE:0
TRANSP:OPAQUE
DTEND:20260131T102500Z
URL:https://calendify.com/session/zX1Mk2x8OW5
LOCATION:AW1.120
SUMMARY:The Public Product Organization as a Vehicle for International Coll
 aboration & Stewardship for DPI
CLASS:PUBLIC
DESCRIPTION:https://calendify.com/session/zX1Mk2x8OW5
DTSTAMP:20260424T124030Z
CREATED:20260131T063249Z
LAST-MODIFIED:20260201T163222Z
END:VEVENT
END:VCALENDAR