BEGIN:VCALENDAR
VERSION:2.0
PRODID:calendify.com
BEGIN:VEVENT
UID:calendify-session-zX1Mk61WOW5
DTSTART:20231229T181000Z
SEQUENCE:0
TRANSP:OPAQUE
DTEND:20231229T201000Z
URL:https://calendify.com/session/zX1Mk61WOW5
LOCATION:Stonewall IO
SUMMARY:Experimentelles Spiel zur IT-Netzwerk Kommunikation
CLASS:PUBLIC
DESCRIPTION:https://calendify.com/session/zX1Mk61WOW5
DTSTAMP:20260423T031836Z
CREATED:20231219T100106Z
LAST-MODIFIED:20240401T142933Z
END:VEVENT
END:VCALENDAR