BEGIN:VCALENDAR
VERSION:2.0
PRODID:calendify.com
BEGIN:VEVENT
UID:calendify-session-zX1Mk638OW5
DTSTART:20231228T181500Z
SEQUENCE:0
TRANSP:OPAQUE
DTEND:20231228T185500Z
URL:https://calendify.com/session/zX1Mk638OW5
LOCATION:Saal Granville
SUMMARY:Rettet uns die KI?
CLASS:PUBLIC
DESCRIPTION:https://calendify.com/session/zX1Mk638OW5
DTSTAMP:20260423T003729Z
CREATED:20231215T204820Z
LAST-MODIFIED:20240401T142932Z
END:VEVENT
END:VCALENDAR