BEGIN:VCALENDAR
VERSION:2.0
PRODID:calendify.com
BEGIN:VEVENT
UID:calendify-session-zX1Mk6D5OW5
DTSTART:20230721T150000Z
SEQUENCE:0
TRANSP:OPAQUE
DTEND:20230721T190000Z
URL:https://calendify.com/session/zX1Mk6D5OW5
LOCATION:Brettspielecke
SUMMARY:Brettspiele
CLASS:PUBLIC
DESCRIPTION:https://calendify.com/session/zX1Mk6D5OW5
DTSTAMP:20260423T230817Z
CREATED:20230806T113705Z
LAST-MODIFIED:20230806T113705Z
END:VEVENT
END:VCALENDAR