BEGIN:VCALENDAR
VERSION:2.0
PRODID:calendify.com
BEGIN:VEVENT
UID:calendify-session-zX1Mk6J5OW5
DTSTART:20230715T093000Z
SEQUENCE:0
TRANSP:OPAQUE
DTEND:20230715T120000Z
URL:https://calendify.com/session/zX1Mk6J5OW5
LOCATION:Raum 2.10
SUMMARY:Workshop hacking radio-signals
CLASS:PUBLIC
DESCRIPTION:https://calendify.com/session/zX1Mk6J5OW5
DTSTAMP:20260422T141122Z
CREATED:20230806T113150Z
LAST-MODIFIED:20230806T113150Z
END:VEVENT
END:VCALENDAR