BEGIN:VCALENDAR
VERSION:2.0
PRODID:calendify.com
BEGIN:VEVENT
UID:calendify-session-zX1Mk6Z5OW5
DTSTART:20231230T133000Z
SEQUENCE:0
TRANSP:OPAQUE
DTEND:20231230T151500Z
URL:https://calendify.com/session/zX1Mk6Z5OW5
LOCATION:Fireshonks
SUMMARY:Kunstshow der Artists Unlimited
CLASS:PUBLIC
DESCRIPTION:https://calendify.com/session/zX1Mk6Z5OW5
DTSTAMP:20260423T070154Z
CREATED:20231229T002003Z
LAST-MODIFIED:20240401T142934Z
END:VEVENT
END:VCALENDAR