BEGIN:VCALENDAR
VERSION:2.0
PRODID:calendify.com
BEGIN:VEVENT
UID:calendify-session-zX1Mk6azOW5
DTSTART:20231229T140000Z
SEQUENCE:0
TRANSP:OPAQUE
DTEND:20231229T160000Z
URL:https://calendify.com/session/zX1Mk6azOW5
LOCATION:Art and Play Workshop table [H]
SUMMARY:Art and Play: Livevektorskizzen #2
CLASS:PUBLIC
DESCRIPTION:https://calendify.com/session/zX1Mk6azOW5
DTSTAMP:20260421T020030Z
CREATED:20231226T202003Z
LAST-MODIFIED:20240401T142933Z
END:VEVENT
END:VCALENDAR