BEGIN:VCALENDAR
VERSION:2.0
PRODID:calendify.com
BEGIN:VEVENT
UID:calendify-session-zX1Mk6mGOW5
DTSTART:20230902T120000Z
SEQUENCE:0
TRANSP:OPAQUE
DTEND:20230902T125000Z
URL:https://calendify.com/session/zX1Mk6mGOW5
LOCATION:C120 - Arkanraum
SUMMARY:Digitalisierung 2.0 - jetzt nachhaltig gedacht
CLASS:PUBLIC
DESCRIPTION:https://calendify.com/session/zX1Mk6mGOW5
DTSTAMP:20260422T183739Z
CREATED:20240328T132702Z
LAST-MODIFIED:20240328T132702Z
END:VEVENT
END:VCALENDAR