BEGIN:VCALENDAR
VERSION:2.0
PRODID:calendify.com
BEGIN:VEVENT
UID:calendify-session-zX1Mk6nPOW5
DTSTART:20240330T200000Z
SEQUENCE:0
TRANSP:OPAQUE
DTEND:20240330T210000Z
URL:https://calendify.com/session/zX1Mk6nPOW5
LOCATION:Walhacka - D002
SUMMARY:CI-Bus\, NDA\, Oweh !\, ein tiefer Einblick in den Caravan LIN Bus
CLASS:PUBLIC
DESCRIPTION:https://calendify.com/session/zX1Mk6nPOW5
DTSTAMP:20260421T165005Z
CREATED:20240328T125150Z
LAST-MODIFIED:20240401T142841Z
END:VEVENT
END:VCALENDAR