BEGIN:VCALENDAR
VERSION:2.0
PRODID:calendify.com
BEGIN:VEVENT
UID:calendify-session-zX1Mk6qPOW5
DTSTART:20240331T133000Z
SEQUENCE:0
TRANSP:OPAQUE
DTEND:20240331T153000Z
URL:https://calendify.com/session/zX1Mk6qPOW5
LOCATION:Goldener Turing - K018
SUMMARY:IT-Sicherheit im ambulanten Gesundheitswesen
CLASS:PUBLIC
DESCRIPTION:https://calendify.com/session/zX1Mk6qPOW5
DTSTAMP:20260421T222822Z
CREATED:20240328T125152Z
LAST-MODIFIED:20240401T142841Z
END:VEVENT
END:VCALENDAR