BEGIN:VCALENDAR
VERSION:2.0
PRODID:calendify.com
BEGIN:VEVENT
UID:calendify-session-zX1Mk6w1OW5
DTSTART:20231229T120000Z
SEQUENCE:0
TRANSP:OPAQUE
DTEND:20231229T133000Z
URL:https://calendify.com/session/zX1Mk6w1OW5
LOCATION:Fireshonks
SUMMARY:Bird Clock Opera/ w text from Days Of The Week
CLASS:PUBLIC
DESCRIPTION:https://calendify.com/session/zX1Mk6w1OW5
DTSTAMP:20260423T015910Z
CREATED:20231223T100103Z
LAST-MODIFIED:20240401T142933Z
END:VEVENT
END:VCALENDAR