BEGIN:VCALENDAR
VERSION:2.0
PRODID:calendify.com
BEGIN:VEVENT
UID:calendify-session-zX1Mk6xGOW5
DTSTART:20230815T180000Z
SEQUENCE:0
TRANSP:OPAQUE
DTEND:20230815T200000Z
URL:https://calendify.com/session/zX1Mk6xGOW5
LOCATION:UFO
SUMMARY:DJ Loui from Jupiter4
CLASS:PUBLIC
DESCRIPTION:https://calendify.com/session/zX1Mk6xGOW5
DTSTAMP:20260420T031717Z
CREATED:20230815T214936Z
LAST-MODIFIED:20240401T150800Z
END:VEVENT
END:VCALENDAR