BEGIN:VCALENDAR
VERSION:2.0
PRODID:calendify.com
BEGIN:VEVENT
UID:calendify-session-zX1Mk6ydOW5
DTSTART:20240607T170000Z
SEQUENCE:0
TRANSP:OPAQUE
DTEND:20240607T180000Z
URL:https://calendify.com/session/zX1Mk6ydOW5
LOCATION:Bühne
SUMMARY:KI und Schule - über modernen Götzenkult
CLASS:PUBLIC
DESCRIPTION:https://calendify.com/session/zX1Mk6ydOW5
DTSTAMP:20260421T032219Z
CREATED:20240531T124146Z
LAST-MODIFIED:20240610T213338Z
END:VEVENT
END:VCALENDAR