BEGIN:VCALENDAR
VERSION:2.0
PRODID:calendify.com
BEGIN:VEVENT
UID:calendify-session-zX1MkD68gW5
DTSTART:20171228T211500Z
SEQUENCE:0
TRANSP:OPAQUE
DTEND:20171228T221500Z
URL:https://calendify.com/session/zX1MkD68gW5
LOCATION:Saal Borg
SUMMARY:Opening Closed Systems with GlitchKit
CLASS:PUBLIC
DESCRIPTION:https://calendify.com/session/zX1MkD68gW5
DTSTAMP:20260421T230020Z
CREATED:20200625T113327Z
LAST-MODIFIED:20200625T113327Z
END:VEVENT
END:VCALENDAR