BEGIN:VCALENDAR
VERSION:2.0
PRODID:calendify.com
BEGIN:VEVENT
UID:calendify-session-zX1MkDN5gW5
DTSTART:20201228T143000Z
SEQUENCE:0
TRANSP:OPAQUE
DTEND:20201228T153000Z
URL:https://calendify.com/session/zX1MkDN5gW5
LOCATION:ChaosZone TV Stream
SUMMARY:Basteln im Lockdown: Gigatron - Ein Computer ohne CPU
CLASS:PUBLIC
DESCRIPTION:https://calendify.com/session/zX1MkDN5gW5
DTSTAMP:20260422T111044Z
CREATED:20201221T231541Z
LAST-MODIFIED:20211226T145829Z
END:VEVENT
END:VCALENDAR