BEGIN:VCALENDAR
VERSION:2.0
PRODID:calendify.com
BEGIN:VEVENT
UID:calendify-session-zX1MkDrPgW5
DTSTART:20190922T100000Z
SEQUENCE:0
TRANSP:OPAQUE
DTEND:20190922T130000Z
URL:https://calendify.com/session/zX1MkDrPgW5
LOCATION:Zentralwerk Hof
SUMMARY:latenzia
CLASS:PUBLIC
DESCRIPTION:https://calendify.com/session/zX1MkDrPgW5
DTSTAMP:20260423T134458Z
CREATED:20200610T174346Z
LAST-MODIFIED:20200610T174346Z
END:VEVENT
END:VCALENDAR