BEGIN:VCALENDAR
VERSION:2.0
PRODID:calendify.com
BEGIN:VEVENT
UID:calendify-session-zX1MkE654W5
DTSTART:20241005T130042Z
SEQUENCE:0
TRANSP:OPAQUE
DTEND:20241005T143042Z
URL:https://calendify.com/session/zX1MkE654W5
LOCATION:B002 - Trockendock
SUMMARY:Tauch ein in die Welt des Codens
CLASS:PUBLIC
DESCRIPTION:https://calendify.com/session/zX1MkE654W5
DTSTAMP:20260422T163217Z
CREATED:20241208T215142Z
LAST-MODIFIED:20241208T215142Z
END:VEVENT
END:VCALENDAR