BEGIN:VCALENDAR
VERSION:2.0
PRODID:calendify.com
BEGIN:VEVENT
UID:calendify-session-zX1MkELP4W5
DTSTART:20240921T220000Z
SEQUENCE:0
TRANSP:OPAQUE
DTEND:20240921T224500Z
URL:https://calendify.com/session/zX1MkELP4W5
LOCATION:Bar
SUMMARY:Irgendwas mit Musik
CLASS:PUBLIC
DESCRIPTION:https://calendify.com/session/zX1MkELP4W5
DTSTAMP:20260420T234608Z
CREATED:20241208T220338Z
LAST-MODIFIED:20241208T220338Z
END:VEVENT
END:VCALENDAR