BEGIN:VCALENDAR
VERSION:2.0
PRODID:calendify.com
BEGIN:VEVENT
UID:calendify-session-zX1MkJ8zOW5
DTSTART:20200202T084500Z
SEQUENCE:0
TRANSP:OPAQUE
DTEND:20200202T092500Z
URL:https://calendify.com/session/zX1MkJ8zOW5
LOCATION:UB4.136
SUMMARY:An event based approach for CI/CD pipelines
CLASS:PUBLIC
DESCRIPTION:https://calendify.com/session/zX1MkJ8zOW5
DTSTAMP:20260420T153601Z
CREATED:20200513T234735Z
LAST-MODIFIED:20210426T093310Z
END:VEVENT
END:VCALENDAR