BEGIN:VCALENDAR
VERSION:2.0
PRODID:calendify.com
BEGIN:VEVENT
UID:calendify-session-zX1MkW13MW5
DTSTART:20211028T220000Z
SEQUENCE:0
TRANSP:OPAQUE
DTEND:20211029T215500Z
URL:https://calendify.com/session/zX1MkW13MW5
LOCATION:Kunst 1
SUMMARY:Däténméér
CLASS:PUBLIC
DESCRIPTION:https://calendify.com/session/zX1MkW13MW5
DTSTAMP:20260424T014319Z
CREATED:20211025T094003Z
LAST-MODIFIED:20211101T215003Z
END:VEVENT
END:VCALENDAR