BEGIN:VCALENDAR
VERSION:2.0
PRODID:calendify.com
BEGIN:VEVENT
UID:calendify-session-zX1MkWG1MW5
DTSTART:20210310T181500Z
SEQUENCE:0
TRANSP:OPAQUE
DTEND:20210310T191500Z
URL:https://calendify.com/session/zX1MkWG1MW5
LOCATION:Youth 1
SUMMARY:Making a simple game using P5.JS
CLASS:PUBLIC
DESCRIPTION:https://calendify.com/session/zX1MkWG1MW5
DTSTAMP:20260422T112319Z
CREATED:20210426T094927Z
LAST-MODIFIED:20210426T094927Z
END:VEVENT
END:VCALENDAR