BEGIN:VCALENDAR
VERSION:2.0
PRODID:calendify.com
BEGIN:VEVENT
UID:calendify-session-zX1MkWVzMW5
DTSTART:20220205T140000Z
SEQUENCE:0
TRANSP:OPAQUE
DTEND:20220205T143000Z
URL:https://calendify.com/session/zX1MkWVzMW5
LOCATION:D.libreoffice
SUMMARY:Let's Build a 200-Page-Long Lecture Book with LibreOffice Writer
CLASS:PUBLIC
DESCRIPTION:https://calendify.com/session/zX1MkWVzMW5
DTSTAMP:20260422T111135Z
CREATED:20220120T214602Z
LAST-MODIFIED:20220206T225002Z
END:VEVENT
END:VCALENDAR