BEGIN:VCALENDAR
VERSION:2.0
PRODID:calendify.com
BEGIN:VEVENT
UID:calendify-session-zX1MkWYPMW5
DTSTART:20210522T150000Z
SEQUENCE:0
TRANSP:OPAQUE
DTEND:20210522T152500Z
URL:https://calendify.com/session/zX1MkWYPMW5
LOCATION:Kanal 2
SUMMARY:You can take my breath away - Ein Date in der Karaokebar
CLASS:PUBLIC
DESCRIPTION:https://calendify.com/session/zX1MkWYPMW5
DTSTAMP:20260422T233025Z
CREATED:20210512T155328Z
LAST-MODIFIED:20210524T215002Z
END:VEVENT
END:VCALENDAR