BEGIN:VCALENDAR
VERSION:2.0
PRODID:calendify.com
BEGIN:VEVENT
UID:calendify-session-zX1MkWd1MW5
DTSTART:20211228T083500Z
SEQUENCE:0
TRANSP:OPAQUE
DTEND:20211228T103500Z
URL:https://calendify.com/session/zX1MkWd1MW5
LOCATION:rC3 Lounge
SUMMARY:Spiegeleule
CLASS:PUBLIC
DESCRIPTION:https://calendify.com/session/zX1MkWd1MW5
DTSTAMP:20260420T143125Z
CREATED:20211226T205000Z
LAST-MODIFIED:20211231T102805Z
END:VEVENT
END:VCALENDAR