BEGIN:VCALENDAR
VERSION:2.0
PRODID:calendify.com
BEGIN:VEVENT
UID:calendify-session-zX1MkWxEMW5
DTSTART:20210317T160000Z
SEQUENCE:0
TRANSP:OPAQUE
DTEND:20210317T164000Z
URL:https://calendify.com/session/zX1MkWxEMW5
LOCATION:Youth 2
SUMMARY:Cyber Security
CLASS:PUBLIC
DESCRIPTION:https://calendify.com/session/zX1MkWxEMW5
DTSTAMP:20260421T053419Z
CREATED:20210426T094929Z
LAST-MODIFIED:20210426T094929Z
END:VEVENT
END:VCALENDAR