BEGIN:VCALENDAR
VERSION:2.0
PRODID:calendify.com
BEGIN:VEVENT
UID:calendify-session-zX1Mkp98gW5
DTSTART:20220610T153000Z
SEQUENCE:0
TRANSP:OPAQUE
DTEND:20220610T154500Z
URL:https://calendify.com/session/zX1Mkp98gW5
LOCATION:Stage 1
SUMMARY:Die Schönheit der Differenz
CLASS:PUBLIC
DESCRIPTION:https://calendify.com/session/zX1Mkp98gW5
DTSTAMP:20260423T110605Z
CREATED:20220526T162947Z
LAST-MODIFIED:20220613T235204Z
END:VEVENT
END:VCALENDAR