BEGIN:VCALENDAR
VERSION:2.0
PRODID:calendify.com
BEGIN:VEVENT
UID:calendify-session-zX1MkpEngW5
DTSTART:20161230T161500Z
SEQUENCE:0
TRANSP:OPAQUE
DTEND:20161230T171500Z
URL:https://calendify.com/session/zX1MkpEngW5
LOCATION:Saal 2
SUMMARY:Surveilling the surveillers
CLASS:PUBLIC
DESCRIPTION:https://calendify.com/session/zX1MkpEngW5
DTSTAMP:20260420T071547Z
CREATED:20220415T135303Z
LAST-MODIFIED:20220415T135303Z
END:VEVENT
END:VCALENDAR