BEGIN:VCALENDAR
VERSION:2.0
PRODID:calendify.com
BEGIN:VEVENT
UID:calendify-session-zX1MkpddgW5
DTSTART:20220608T151500Z
SEQUENCE:0
TRANSP:OPAQUE
DTEND:20220608T154500Z
URL:https://calendify.com/session/zX1MkpddgW5
LOCATION:Stage 1
SUMMARY:ROCKS\, FLESH\, AND ROCKETS: A Political Ecology of AI
CLASS:PUBLIC
DESCRIPTION:https://calendify.com/session/zX1MkpddgW5
DTSTAMP:20260422T042437Z
CREATED:20220526T162946Z
LAST-MODIFIED:20220613T235204Z
END:VEVENT
END:VCALENDAR