BEGIN:VCALENDAR
VERSION:2.0
PRODID:calendify.com
BEGIN:VEVENT
UID:calendify-session-zX1Mkpm1gW5
DTSTART:20220608T173000Z
SEQUENCE:0
TRANSP:OPAQUE
DTEND:20220608T183000Z
URL:https://calendify.com/session/zX1Mkpm1gW5
LOCATION:Stage 2
SUMMARY:@ichbinsophiescholl - Ein Instagramaccount für die NS-Widerstandsk
 ämpferin
CLASS:PUBLIC
DESCRIPTION:https://calendify.com/session/zX1Mkpm1gW5
DTSTAMP:20260419T145510Z
CREATED:20220531T124130Z
LAST-MODIFIED:20220613T235204Z
END:VEVENT
END:VCALENDAR