BEGIN:VCALENDAR
VERSION:2.0
PRODID:calendify.com
BEGIN:VEVENT
UID:calendify-session-zX1MkpnWgW5
DTSTART:20220609T093000Z
SEQUENCE:0
TRANSP:OPAQUE
DTEND:20220609T103000Z
URL:https://calendify.com/session/zX1MkpnWgW5
LOCATION:Fabmobil
SUMMARY:The great and cozy Fabmobil Meet Up (1)
CLASS:PUBLIC
DESCRIPTION:https://calendify.com/session/zX1MkpnWgW5
DTSTAMP:20260424T073159Z
CREATED:20220526T162948Z
LAST-MODIFIED:20220613T235204Z
END:VEVENT
END:VCALENDAR