BEGIN:VCALENDAR
VERSION:2.0
PRODID:calendify.com
BEGIN:VEVENT
UID:calendify-session-zX1Mkpx1gW5
DTSTART:20161227T220000Z
SEQUENCE:0
TRANSP:OPAQUE
DTEND:20161227T230000Z
URL:https://calendify.com/session/zX1Mkpx1gW5
LOCATION:Saal 6
SUMMARY:Visiting The Bear Den
CLASS:PUBLIC
DESCRIPTION:https://calendify.com/session/zX1Mkpx1gW5
DTSTAMP:20260420T133248Z
CREATED:20220415T135302Z
LAST-MODIFIED:20220415T135302Z
END:VEVENT
END:VCALENDAR