BEGIN:VCALENDAR
VERSION:2.0
PRODID:calendify.com
BEGIN:VEVENT
UID:calendify-session-zX1MkxK5gW5
DTSTART:20220724T093000Z
SEQUENCE:0
TRANSP:OPAQUE
DTEND:20220724T100000Z
URL:https://calendify.com/session/zX1MkxK5gW5
LOCATION:Family Zone 👪
SUMMARY:Running a Minecraft server for your kids
CLASS:PUBLIC
DESCRIPTION:https://calendify.com/session/zX1MkxK5gW5
DTSTAMP:20260420T022010Z
CREATED:20220723T101231Z
LAST-MODIFIED:20220726T182703Z
END:VEVENT
END:VCALENDAR