BEGIN:VCALENDAR
VERSION:2.0
PRODID:calendify.com
BEGIN:VEVENT
UID:calendify-session-zX1MkxLWgW5
DTSTART:20221229T160000Z
SEQUENCE:0
TRANSP:OPAQUE
DTEND:20221229T180000Z
URL:https://calendify.com/session/zX1MkxLWgW5
LOCATION:Forumszentrum - H1-0.1
SUMMARY:Gebärdensprache und Freiraum - Deafolution!
CLASS:PUBLIC
DESCRIPTION:https://calendify.com/session/zX1MkxLWgW5
DTSTAMP:20260422T002053Z
CREATED:20221224T133615Z
LAST-MODIFIED:20221230T225007Z
END:VEVENT
END:VCALENDAR