BEGIN:VCALENDAR
VERSION:2.0
PRODID:calendify.com
BEGIN:VEVENT
UID:calendify-session-zX1MkxWdgW5
DTSTART:20221228T222000Z
SEQUENCE:0
TRANSP:OPAQUE
DTEND:20221229T012000Z
URL:https://calendify.com/session/zX1MkxWdgW5
LOCATION:Rave Cave
SUMMARY:>160bpm-schranz to chill and study to
CLASS:PUBLIC
DESCRIPTION:https://calendify.com/session/zX1MkxWdgW5
DTSTAMP:20260420T203359Z
CREATED:20221221T105639Z
LAST-MODIFIED:20221230T225006Z
END:VEVENT
END:VCALENDAR