BEGIN:VCALENDAR
VERSION:2.0
PRODID:calendify.com
BEGIN:VEVENT
UID:calendify-session-zX1MkxeEgW5
DTSTART:20230608T180000Z
SEQUENCE:0
TRANSP:OPAQUE
DTEND:20230608T190000Z
URL:https://calendify.com/session/zX1MkxeEgW5
LOCATION:Medientheater
SUMMARY:Energiewende auf Balkonien - DIY Solaranlagen und Energiespeicher
CLASS:PUBLIC
DESCRIPTION:https://calendify.com/session/zX1MkxeEgW5
DTSTAMP:20260422T170121Z
CREATED:20230527T091820Z
LAST-MODIFIED:20230611T215002Z
END:VEVENT
END:VCALENDAR